BEGIN:VCALENDAR
VERSION:2.0
PRODID:-//wp-events-plugin.com//7.2.3.1//EN
BEGIN:VEVENT
UID:2@anthonybakerentertainment.com
DTSTART:20250724T000000Z
DTEND:20250724T040000Z
DTSTAMP:20250412T203521Z
URL:https://www.anthonybakerentertainment.com/events/frank-daly-at-the-poi
 nt-sea-isle-example
SUMMARY:FRANK DALY AT THE POINT SEA ISLE - example
DESCRIPTION:July 23\n\n$300\n\n15% Commission
CATEGORIES:Frank Daly
LOCATION:The Point - Sea Isle\, 10 43rd St\, Sea Isle City\, New Jersey\, 0
 8243\, United States
X-APPLE-STRUCTURED-LOCATION;VALUE=URI;X-ADDRESS=10 43rd St\, Sea Isle City\
 , New Jersey\, 08243\, United States;X-APPLE-RADIUS=100;X-TITLE=The Point 
 - Sea Isle:geo:0,0
END:VEVENT
END:VCALENDAR